BEGIN:VCALENDAR
VERSION:2.0
PRODID:-//Universidad Nacional de Ingeniería - ECPv6.15.17//NONSGML v1.0//EN
CALSCALE:GREGORIAN
METHOD:PUBLISH
X-ORIGINAL-URL:https://voy.pe/uni6a
X-WR-CALDESC:Eventos para Universidad Nacional de Ingeniería
REFRESH-INTERVAL;VALUE=DURATION:PT1H
X-Robots-Tag:noindex
X-PUBLISHED-TTL:PT1H
BEGIN:VTIMEZONE
TZID:America/Lima
BEGIN:STANDARD
TZOFFSETFROM:-0500
TZOFFSETTO:-0500
TZNAME:-05
DTSTART:20250101T000000
END:STANDARD
END:VTIMEZONE
BEGIN:VEVENT
DTSTART;TZID=America/Lima:20260514T080000
DTEND;TZID=America/Lima:20260514T170000
DTSTAMP:20260422T200652
CREATED:20240921T084633Z
LAST-MODIFIED:20260214T201607Z
UID:11800-1778745600-1778778000@voy.pe
SUMMARY:Ingeniería del Futuro: Robótica y Automatización
DESCRIPTION:Nulla vitae nisl fringilla\, suscipit enim id\, blandit mi. Cras leo tellus\, suscipit id mauris sit amet\, malesuada pretium tortor. Nunc est ipsum\, pretium eget diam a\, suscipit varius nisi. Integer eu est dictum\, sollicitudin augue et\, efficitur lacus. Integer tristique maximus metus\, eget semper dui. Praesent feugiat massa vitae orci faucibus finibus. Vestibulum ante ipsum primis in faucibus orci luctus et ultrices posuere cubilia curae; Praesent eget tellus non est tempus porttitor quis sit amet enim. \nInteger id turpis efficitur\, venenatis quam a\, tempus mauris. Suspendisse auctor ipsum in dolor vehicula consectetur. Nam ornare quam enim\, non molestie nunc tristique sit amet. Aliquam luctus\, metus vel gravida vehicula\, est enim pellentesque dolor\, gravida placerat ligula ante tempor nisi. Nulla facilisi. Morbi vitae auctor quam. In porttitor ut urna sed malesuada. Maecenas congue fermentum erat. Fusce at rutrum mi\, at sollicitudin justo. Interdum et malesuada fames ac ante ipsum primis in faucibus. Ut tempor eros et eros porttitor feugiat eu at ex. Sed eget erat pellentesque\, blandit sapien quis\, commodo erat. Quisque eu magna et diam aliquam gravida. Aenean sit amet dapibus leo. \nMauris eu odio urna. Interdum et malesuada fames ac ante ipsum primis in faucibus. Aliquam semper eros sit amet aliquam interdum. Morbi placerat feugiat urna quis egestas. Aliquam tempor tincidunt purus quis porttitor. Curabitur lobortis ullamcorper ipsum a volutpat. Integer vehicula enim sed sem mollis\, quis elementum libero mattis. Nunc nisi lorem\, lacinia vel lorem at\, maximus aliquet dui. Maecenas auctor\, neque vel sodales posuere\, enim mi pretium ex\, in sollicitudin sapien ipsum eu felis. Integer malesuada tortor nec dui iaculis semper. Vivamus tincidunt ullamcorper consectetur. Nunc aliquam nisl id luctus dapibus. Fusce et pellentesque mi. \nMorbi non turpis et diam auctor tincidunt. Ut et massa ac nisi varius lobortis. Etiam sit amet pulvinar orci. Suspendisse gravida hendrerit semper. Nulla eget commodo dolor. Nunc hendrerit blandit placerat. Nunc bibendum mauris felis. \nIn interdum\, augue commodo vulputate congue\, ex neque consequat felis\, vel pellentesque lacus tortor facilisis velit. Nulla vestibulum commodo erat vitae rutrum. Donec non lectus tellus. Integer quis neque ligula. Sed ligula risus\, sollicitudin vehicula dignissim vel\, maximus at velit. Aliquam erat volutpat. Class aptent taciti sociosqu ad litora torquent per conubia nostra\, per inceptos himenaeos.
URL:https://voy.pe/uni6a/event/ingenieria-del-futuro-robotica-y-automatizacion/
LOCATION:Lima
CATEGORIES:Eventos
ATTACH;FMTTYPE=image/jpeg:https://voy.pe/uni6a/wp-content/uploads/2024/09/2-2.jpg
END:VEVENT
END:VCALENDAR