BEGIN:VCALENDAR
VERSION:2.0
PRODID:-//Universidad Nacional de Ingeniería - ECPv6.15.17//NONSGML v1.0//EN
CALSCALE:GREGORIAN
METHOD:PUBLISH
X-ORIGINAL-URL:https://voy.pe/uni6a
X-WR-CALDESC:Eventos para Universidad Nacional de Ingeniería
REFRESH-INTERVAL;VALUE=DURATION:PT1H
X-Robots-Tag:noindex
X-PUBLISHED-TTL:PT1H
BEGIN:VTIMEZONE
TZID:America/Lima
BEGIN:STANDARD
TZOFFSETFROM:-0500
TZOFFSETTO:-0500
TZNAME:-05
DTSTART:20250101T000000
END:STANDARD
END:VTIMEZONE
BEGIN:VEVENT
DTSTART;TZID=America/Lima:20260417T080000
DTEND;TZID=America/Lima:20260417T170000
DTSTAMP:20260422T183557
CREATED:20250113T005622Z
LAST-MODIFIED:20260214T201552Z
UID:12287-1776412800-1776445200@voy.pe
SUMMARY:Liderando el cambio: Mujeres en ciencia e innovación
DESCRIPTION:Sed hendrerit tellus sit amet dolor consequat\, in laoreet turpis auctor. Nam sit amet venenatis dolor. Vivamus vitae ex quis orci accumsan porta et id nisi. Phasellus a commodo ipsum\, nec vehicula massa. Praesent at tempus ligula. Donec sed aliquet urna\, dapibus rutrum ante. Sed vitae mi sed massa tempor rutrum a sit amet arcu. Fusce ut ex cursus\, faucibus elit quis\, pellentesque eros. Class aptent taciti sociosqu ad litora torquent per conubia nostra\, per inceptos himenaeos. Sed ultrices fermentum maximus. Nam ac velit est. \nVestibulum vitae tristique massa\, eu pellentesque nisl. Sed ultricies lorem mauris\, in aliquet nunc scelerisque id. Ut lobortis vel nisi sit amet finibus. Sed id dolor ut massa dignissim efficitur vulputate et libero. Morbi porta id tortor sit amet varius. In sed fringilla lorem. Nulla scelerisque velit nisi\, eget ornare lorem tempus sed. Vestibulum lacinia rutrum finibus. Phasellus elit nulla\, vulputate vitae mi non\, fringilla fringilla nisi. Nam feugiat\, ante eget auctor blandit\, tellus justo placerat sem\, a maximus massa felis a tellus. \nPellentesque rhoncus arcu quis nunc finibus\, vitae dignissim arcu pharetra. Etiam nec orci justo. Proin et erat sed eros porta facilisis vel id felis. Pellentesque tristique eros ac libero consectetur dignissim. Praesent eros turpis\, maximus rutrum urna eget\, tristique venenatis mi. Suspendisse ullamcorper elementum tincidunt. Cras mattis sapien elit\, vitae interdum tortor porttitor et. Praesent tellus nulla\, rhoncus nec metus vel\, elementum semper turpis. Donec pellentesque\, sem et faucibus malesuada\, velit ipsum tempor sem\, viverra interdum justo ex quis lacus. Proin pharetra mi sit amet nisl dictum\, ac bibendum ligula commodo. Donec maximus commodo mauris\, bibendum vestibulum tellus.
URL:https://voy.pe/uni6a/event/liderando-el-cambio-mujeres-en-ciencia-e-innovacion/
LOCATION:Lima
CATEGORIES:Eventos
ATTACH;FMTTYPE=image/jpeg:https://voy.pe/uni6a/wp-content/uploads/2025/01/evento4.jpg
END:VEVENT
END:VCALENDAR